BEGIN:VCALENDAR
VERSION:2.0
PRODID:SchoolNow
CALSCALE:GREGORIAN
BEGIN:VEVENT
UID:b66cff84-3151-11ed-a1be-0a4d983db7e1
DTSTAMP:20220910T214414Z
SUMMARY:Women's Bible Study - Oct. 19th
LOCATION:Theatre
URL;VALUE=URI:https://www.wildernesslakecdd.org/calendar/3373369/womens-bib
 le-study-oct-19th
DTSTART:20221019T140000Z
DTEND:20221019T160000Z
END:VEVENT
END:VCALENDAR
