BEGIN:VCALENDAR
VERSION:2.0
PRODID:SchoolNow
CALSCALE:GREGORIAN
BEGIN:VEVENT
UID:9a2c7af2-3151-11ed-94a6-0a4d983db7e1
DTSTAMP:20220910T214326Z
SUMMARY:Women's Bible Study - Oct. 12th
LOCATION:Theatre
URL;VALUE=URI:https://www.wildernesslakecdd.org/calendar/3373368/womens-bib
 le-study-oct-12th
DTSTART:20221012T140000Z
DTEND:20221012T160000Z
END:VEVENT
END:VCALENDAR
