BEGIN:VCALENDAR
VERSION:2.0
PRODID:SchoolNow
CALSCALE:GREGORIAN
BEGIN:VEVENT
UID:886ad17e-3151-11ed-87d8-0a4d983db7e1
DTSTAMP:20220910T214256Z
SUMMARY:Women's Bible Study - Oct. 5th
LOCATION:Theatre
URL;VALUE=URI:https://www.wildernesslakecdd.org/calendar/3373367/womens-bib
 le-study-oct-5th
DTSTART:20221005T140000Z
DTEND:20221005T160000Z
END:VEVENT
END:VCALENDAR
