BEGIN:VCALENDAR
VERSION:2.0
PRODID:SchoolNow
CALSCALE:GREGORIAN
BEGIN:VEVENT
UID:73577224-3151-11ed-962a-0a4d983db7e1
DTSTAMP:20220910T214221Z
SUMMARY:Women's Bible Study - Sept. 28th
LOCATION:Theatre
URL;VALUE=URI:https://www.wildernesslakecdd.org/calendar/3373366/womens-bib
 le-study-sept-28th
DTSTART:20220928T140000Z
DTEND:20220928T160000Z
END:VEVENT
END:VCALENDAR
