BEGIN:VCALENDAR
VERSION:2.0
PRODID:SchoolNow
CALSCALE:GREGORIAN
BEGIN:VEVENT
UID:619fb302-3151-11ed-8b8f-0a4d983db7e1
DTSTAMP:20220910T214151Z
SUMMARY:Women's Bible Study - Sept. 21st
LOCATION:Theatre
URL;VALUE=URI:https://www.wildernesslakecdd.org/calendar/3373365/womens-bib
 le-study-sept-21st
DTSTART:20220921T140000Z
DTEND:20220921T160000Z
END:VEVENT
END:VCALENDAR
