BEGIN:VCALENDAR
VERSION:2.0
PRODID:SchoolNow
CALSCALE:GREGORIAN
BEGIN:VEVENT
UID:4373a6d6-3151-11ed-b83b-0a4d983db7e1
DTSTAMP:20220910T214101Z
SUMMARY:Women's Bible Study - Sept. 14th
LOCATION:Theatre
URL;VALUE=URI:https://www.wildernesslakecdd.org/calendar/3373364/womens-bib
 le-study-sept-14th
DTSTART:20220914T140000Z
DTEND:20220914T160000Z
END:VEVENT
END:VCALENDAR
