BEGIN:VCALENDAR
VERSION:2.0
PRODID:SchoolNow
CALSCALE:GREGORIAN
BEGIN:VEVENT
UID:14110bae-3151-11ed-a5b3-0a4d983db7e1
DTSTAMP:20220910T213941Z
SUMMARY:Pickleball - Dec. 27th
LOCATION:Tennis Courts
URL;VALUE=URI:https://www.wildernesslakecdd.org/calendar/3373363/pickleball
 -dec-27th
DTSTART:20221227T233000Z
DTEND:20221228T003000Z
END:VEVENT
END:VCALENDAR
