BEGIN:VCALENDAR
VERSION:2.0
PRODID:SchoolNow
CALSCALE:GREGORIAN
BEGIN:VEVENT
UID:04351d88-3151-11ed-9569-0a4d983db7e1
DTSTAMP:20220910T213915Z
SUMMARY:Pickleball - Dec. 20th
LOCATION:Tennis Courts
URL;VALUE=URI:https://www.wildernesslakecdd.org/calendar/3373362/pickleball
 -dec-20th
DTSTART:20221220T233000Z
DTEND:20221221T003000Z
END:VEVENT
END:VCALENDAR
