BEGIN:VCALENDAR
VERSION:2.0
PRODID:SchoolNow
CALSCALE:GREGORIAN
BEGIN:VEVENT
UID:ed42aa50-3150-11ed-893f-0a4d983db7e1
DTSTAMP:20220910T213836Z
SUMMARY:Pickleball - Dec. 13th
LOCATION:Tennis Courts
URL;VALUE=URI:https://www.wildernesslakecdd.org/calendar/3373361/pickleball
 -dec-13th
DTSTART:20221213T233000Z
DTEND:20221214T003000Z
END:VEVENT
END:VCALENDAR
