BEGIN:VCALENDAR
VERSION:2.0
PRODID:SchoolNow
CALSCALE:GREGORIAN
BEGIN:VEVENT
UID:da80075a-3150-11ed-b71c-0a4d983db7e1
DTSTAMP:20220910T213805Z
SUMMARY:Pickleball - Dec. 6th
LOCATION:Tennis Courts
URL;VALUE=URI:https://www.wildernesslakecdd.org/calendar/3373360/pickleball
 -dec-6th
DTSTART:20221206T233000Z
DTEND:20221207T003000Z
END:VEVENT
END:VCALENDAR
