BEGIN:VCALENDAR
VERSION:2.0
PRODID:SchoolNow
CALSCALE:GREGORIAN
BEGIN:VEVENT
UID:c30351cc-3150-11ed-bdf1-0a4d983db7e1
DTSTAMP:20220910T213725Z
SUMMARY:Pickleball - Nov. 29th
LOCATION:Tennis Courts
URL;VALUE=URI:https://www.wildernesslakecdd.org/calendar/3373359/pickleball
 -nov-29th
DTSTART:20221129T233000Z
DTEND:20221130T003000Z
END:VEVENT
END:VCALENDAR
