BEGIN:VCALENDAR
VERSION:2.0
PRODID:SchoolNow
CALSCALE:GREGORIAN
BEGIN:VEVENT
UID:afacab5a-3150-11ed-a812-0a4d983db7e1
DTSTAMP:20220910T213653Z
SUMMARY:Pickleball - Nov. 22nd
LOCATION:Tennis Courts
URL;VALUE=URI:https://www.wildernesslakecdd.org/calendar/3373358/pickleball
 -nov-22nd
DTSTART:20221122T233000Z
DTEND:20221123T003000Z
END:VEVENT
END:VCALENDAR
