BEGIN:VCALENDAR
VERSION:2.0
PRODID:SchoolNow
CALSCALE:GREGORIAN
BEGIN:VEVENT
UID:984698ea-3150-11ed-8102-0a4d983db7e1
DTSTAMP:20220910T213614Z
SUMMARY:Pickleball - Nov. 15th
LOCATION:Tennis Courts
URL;VALUE=URI:https://www.wildernesslakecdd.org/calendar/3373357/pickleball
 -nov-15th
DTSTART:20221115T233000Z
DTEND:20221116T003000Z
END:VEVENT
END:VCALENDAR
