BEGIN:VCALENDAR
VERSION:2.0
PRODID:SchoolNow
CALSCALE:GREGORIAN
BEGIN:VEVENT
UID:8274e238-3150-11ed-93dc-0a4d983db7e1
DTSTAMP:20220910T213537Z
SUMMARY:Pickleball - Nov. 8th
LOCATION:Tennis Courts
URL;VALUE=URI:https://www.wildernesslakecdd.org/calendar/3373356/pickleball
 -nov-8th
DTSTART:20221108T233000Z
DTEND:20221109T003000Z
END:VEVENT
END:VCALENDAR
