BEGIN:VCALENDAR
VERSION:2.0
PRODID:SchoolNow
CALSCALE:GREGORIAN
BEGIN:VEVENT
UID:729b8934-3150-11ed-9387-0a4d983db7e1
DTSTAMP:20220910T213510Z
SUMMARY:Pickleball - Nov. 1st
LOCATION:Tennis Courts
URL;VALUE=URI:https://www.wildernesslakecdd.org/calendar/3373355/pickleball
 -nov-1st
DTSTART:20221101T223000Z
DTEND:20221101T233000Z
END:VEVENT
END:VCALENDAR
