BEGIN:VCALENDAR
VERSION:2.0
PRODID:SchoolNow
CALSCALE:GREGORIAN
BEGIN:VEVENT
UID:546932ea-3150-11ed-838c-0a4d983db7e1
DTSTAMP:20220910T213420Z
SUMMARY:Pickleball - Oct. 18th
LOCATION:Tennis Courts
URL;VALUE=URI:https://www.wildernesslakecdd.org/calendar/3373354/pickleball
 -oct-18th
DTSTART:20221018T223000Z
DTEND:20221018T233000Z
END:VEVENT
END:VCALENDAR
