BEGIN:VCALENDAR
VERSION:2.0
PRODID:SchoolNow
CALSCALE:GREGORIAN
BEGIN:VEVENT
UID:4196fe54-3150-11ed-be57-0a4d983db7e1
DTSTAMP:20220910T213348Z
SUMMARY:Pickleball - Oct. 11th
LOCATION:Tennis Courts
URL;VALUE=URI:https://www.wildernesslakecdd.org/calendar/3373353/pickleball
 -oct-11th
DTSTART:20221011T223000Z
DTEND:20221011T233000Z
END:VEVENT
END:VCALENDAR
