BEGIN:VCALENDAR
VERSION:2.0
PRODID:SchoolNow
CALSCALE:GREGORIAN
BEGIN:VEVENT
UID:3355cc8a-3150-11ed-8462-0a4d983db7e1
DTSTAMP:20220910T213324Z
SUMMARY:Pickleball - Oct. 4th
LOCATION:Tennis Courts
URL;VALUE=URI:https://www.wildernesslakecdd.org/calendar/3373352/pickleball
 -oct-4th
DTSTART:20221004T223000Z
DTEND:20221004T233000Z
END:VEVENT
END:VCALENDAR
