BEGIN:VCALENDAR
VERSION:2.0
PRODID:SchoolNow
CALSCALE:GREGORIAN
BEGIN:VEVENT
UID:223aea7a-3150-11ed-b11e-0a4d983db7e1
DTSTAMP:20220910T213255Z
SUMMARY:Pickleball - Sept. 27th
LOCATION:Tennis Courts
URL;VALUE=URI:https://www.wildernesslakecdd.org/calendar/3373351/pickleball
 -sept-27th
DTSTART:20220927T223000Z
DTEND:20220927T233000Z
END:VEVENT
END:VCALENDAR
