BEGIN:VCALENDAR
VERSION:2.0
PRODID:SchoolNow
CALSCALE:GREGORIAN
BEGIN:VEVENT
UID:12784470-3150-11ed-ab36-0a4d983db7e1
DTSTAMP:20220910T213229Z
SUMMARY:Pickleball - Sept. 20th
LOCATION:Tennis Courts
URL;VALUE=URI:https://www.wildernesslakecdd.org/calendar/3373350/pickleball
 -sept-20th
DTSTART:20220920T223000Z
DTEND:20220920T233000Z
END:VEVENT
END:VCALENDAR
