BEGIN:VCALENDAR
VERSION:2.0
PRODID:SchoolNow
CALSCALE:GREGORIAN
BEGIN:VEVENT
UID:06e9f612-3150-11ed-9a95-0a4d983db7e1
DTSTAMP:20220910T213210Z
SUMMARY:Pickleball - Sept. 13th
LOCATION:Tennis Courts
URL;VALUE=URI:https://www.wildernesslakecdd.org/calendar/3373349/pickleball
 -sept-13th
DTSTART:20220913T223000Z
DTEND:20220913T233000Z
END:VEVENT
END:VCALENDAR
