BEGIN:VCALENDAR
VERSION:2.0
PRODID:SchoolNow
CALSCALE:GREGORIAN
BEGIN:VEVENT
UID:c4956ff8-314f-11ed-b54a-0a4d983db7e1
DTSTAMP:20220910T213018Z
SUMMARY:Pickleball - Tuesday\, August 30
LOCATION:Tennis Courts
URL;VALUE=URI:https://www.wildernesslakecdd.org/calendar/3373346/pickleball
 -tuesday-august-30-clone
DTSTART:20220830T223000Z
DTEND:20220830T233000Z
END:VEVENT
END:VCALENDAR
