BEGIN:VCALENDAR
VERSION:2.0
PRODID:SchoolNow
CALSCALE:GREGORIAN
BEGIN:VEVENT
UID:381716e2-3142-11ed-8386-02624bb330d5
DTSTAMP:20220910T195319Z
SUMMARY:Tree Lighting
URL;VALUE=URI:https://www.wildernesslakecdd.org/calendar/3373237/tree-light
 ing
DTSTART:20221203T230000Z
DTEND:20221204T000000Z
END:VEVENT
END:VCALENDAR
