BEGIN:VCALENDAR
VERSION:2.0
PRODID:SchoolNow
CALSCALE:GREGORIAN
BEGIN:VEVENT
UID:22ea9262-3142-11ed-9dbb-02624bb330d5
DTSTAMP:20220910T195244Z
SUMMARY:Face Painting
URL;VALUE=URI:https://www.wildernesslakecdd.org/calendar/3373236/face-paint
 ing
DTSTART:20221203T210000Z
DTEND:20221204T000000Z
END:VEVENT
END:VCALENDAR
