BEGIN:VCALENDAR
VERSION:2.0
PRODID:SchoolNow
CALSCALE:GREGORIAN
BEGIN:VEVENT
UID:058ca804-3142-11ed-a1d8-02624bb330d5
DTSTAMP:20220910T195154Z
SUMMARY:Pictures w/Santa
URL;VALUE=URI:https://www.wildernesslakecdd.org/calendar/3373235/pictures-w
 -santa
DTSTART:20221203T203000Z
DTEND:20221203T230000Z
END:VEVENT
END:VCALENDAR
