BEGIN:VCALENDAR
VERSION:2.0
PRODID:SchoolNow
CALSCALE:GREGORIAN
BEGIN:VEVENT
UID:f68f91a4-3141-11ed-b6b5-02624bb330d5
DTSTAMP:20220910T195129Z
SUMMARY:Mail Your Letter to Santa
URL;VALUE=URI:https://www.wildernesslakecdd.org/calendar/3373234/mail-your-
 letter-to-santa
DTSTART:20221203T203000Z
DTEND:20221203T230000Z
END:VEVENT
END:VCALENDAR
