BEGIN:VCALENDAR
VERSION:2.0
PRODID:SchoolNow
CALSCALE:GREGORIAN
BEGIN:VEVENT
UID:dc23b822-3141-11ed-b4e1-02624bb330d5
DTSTAMP:20220910T195045Z
SUMMARY:Santa Arrival
URL;VALUE=URI:https://www.wildernesslakecdd.org/calendar/3373233/santa-arri
 val
DTSTART:20221203T200000Z
DTEND:20221203T201500Z
END:VEVENT
END:VCALENDAR
