BEGIN:VCALENDAR
VERSION:2.0
PRODID:SchoolNow
CALSCALE:GREGORIAN
BEGIN:VEVENT
UID:e4baa4ca-313f-11ed-a5c0-0edbd917d1bd
DTSTAMP:20221212T214527Z
SUMMARY:Yoga - Dec.  29th - Class 1
LOCATION:Activities Center
URL;VALUE=URI:https://www.wildernesslakecdd.org/calendar/3372490/yoga-dec-2
 9th-class-1
DTSTART:20221229T134500Z
DTEND:20221229T145500Z
END:VEVENT
END:VCALENDAR
