BEGIN:VCALENDAR
VERSION:2.0
PRODID:SchoolNow
CALSCALE:GREGORIAN
BEGIN:VEVENT
UID:d6432426-313f-11ed-b895-0edbd917d1bd
DTSTAMP:20220910T193616Z
SUMMARY:Yoga - Dec.  13th
LOCATION:Activities Center
URL;VALUE=URI:https://www.wildernesslakecdd.org/calendar/3372489/yoga-dec-1
 3th
DTSTART:20221213T134500Z
DTEND:20221213T144500Z
END:VEVENT
END:VCALENDAR
