BEGIN:VCALENDAR
VERSION:2.0
PRODID:SchoolNow
CALSCALE:GREGORIAN
BEGIN:VEVENT
UID:b8c8fbfa-313f-11ed-966e-0edbd917d1bd
DTSTAMP:20220910T193527Z
SUMMARY:Yoga - Dec.  8th
LOCATION:Activities Center
URL;VALUE=URI:https://www.wildernesslakecdd.org/calendar/3372488/yoga-dec-8
 th
DTSTART:20221208T134500Z
DTEND:20221208T144500Z
END:VEVENT
END:VCALENDAR
