BEGIN:VCALENDAR
VERSION:2.0
PRODID:SchoolNow
CALSCALE:GREGORIAN
BEGIN:VEVENT
UID:aa3c24a4-313f-11ed-8af4-0edbd917d1bd
DTSTAMP:20220910T193502Z
SUMMARY:Yoga - Dec. 6th
LOCATION:Activities Center
URL;VALUE=URI:https://www.wildernesslakecdd.org/calendar/3372487/yoga-dec-6
 th
DTSTART:20221206T134500Z
DTEND:20221206T144500Z
END:VEVENT
END:VCALENDAR
