BEGIN:VCALENDAR
VERSION:2.0
PRODID:SchoolNow
CALSCALE:GREGORIAN
BEGIN:VEVENT
UID:954492f2-313f-11ed-bd21-0edbd917d1bd
DTSTAMP:20220910T193427Z
SUMMARY:Yoga - Dec. 1st.
LOCATION:Activities Center
URL;VALUE=URI:https://www.wildernesslakecdd.org/calendar/3372486/yoga-dec-1
 st
DTSTART:20221201T134500Z
DTEND:20221201T144500Z
END:VEVENT
END:VCALENDAR
