BEGIN:VCALENDAR
VERSION:2.0
PRODID:SchoolNow
CALSCALE:GREGORIAN
BEGIN:VEVENT
UID:68ced08e-313f-11ed-a3e0-0edbd917d1bd
DTSTAMP:20220910T193312Z
SUMMARY:Yoga - Nov. 22nd
LOCATION:Activities Center
URL;VALUE=URI:https://www.wildernesslakecdd.org/calendar/3372484/yoga-nov-2
 2nd
DTSTART:20221122T134500Z
DTEND:20221122T144500Z
END:VEVENT
END:VCALENDAR
