BEGIN:VCALENDAR
VERSION:2.0
PRODID:SchoolNow
CALSCALE:GREGORIAN
BEGIN:VEVENT
UID:5392f9b6-313f-11ed-b403-0edbd917d1bd
DTSTAMP:20220910T193237Z
SUMMARY:Yoga - Nov. 17th
LOCATION:Activities Center
URL;VALUE=URI:https://www.wildernesslakecdd.org/calendar/3372483/yoga-nov-1
 7th
DTSTART:20221117T134500Z
DTEND:20221117T144500Z
END:VEVENT
END:VCALENDAR
