BEGIN:VCALENDAR
VERSION:2.0
PRODID:SchoolNow
CALSCALE:GREGORIAN
BEGIN:VEVENT
UID:44fc7328-313f-11ed-8569-0edbd917d1bd
DTSTAMP:20220910T193212Z
SUMMARY:Yoga - Nov. 15th
LOCATION:Activities Center
URL;VALUE=URI:https://www.wildernesslakecdd.org/calendar/3372482/yoga-nov-1
 5th
DTSTART:20221115T134500Z
DTEND:20221115T144500Z
END:VEVENT
END:VCALENDAR
