BEGIN:VCALENDAR
VERSION:2.0
PRODID:SchoolNow
CALSCALE:GREGORIAN
BEGIN:VEVENT
UID:312de728-313f-11ed-8c37-0edbd917d1bd
DTSTAMP:20220910T193139Z
SUMMARY:Yoga - Nov. 10th
LOCATION:Activities Center
URL;VALUE=URI:https://www.wildernesslakecdd.org/calendar/3372481/yoga-nov-1
 0th
DTSTART:20221110T134500Z
DTEND:20221110T144500Z
END:VEVENT
END:VCALENDAR
