BEGIN:VCALENDAR
VERSION:2.0
PRODID:SchoolNow
CALSCALE:GREGORIAN
BEGIN:VEVENT
UID:23407996-313f-11ed-950c-0edbd917d1bd
DTSTAMP:20220910T193116Z
SUMMARY:Yoga - Nov. 8th
LOCATION:Activities Center
URL;VALUE=URI:https://www.wildernesslakecdd.org/calendar/3372480/yoga-nov-8
 th
DTSTART:20221108T134500Z
DTEND:20221108T144500Z
END:VEVENT
END:VCALENDAR
