BEGIN:VCALENDAR
VERSION:2.0
PRODID:SchoolNow
CALSCALE:GREGORIAN
BEGIN:VEVENT
UID:0cde2afe-313f-11ed-bcb5-0edbd917d1bd
DTSTAMP:20220910T193038Z
SUMMARY:Yoga - Nov. 3rd
LOCATION:Activities Center
URL;VALUE=URI:https://www.wildernesslakecdd.org/calendar/3372479/yoga-nov-3
 rd
DTSTART:20221103T124500Z
DTEND:20221103T134500Z
END:VEVENT
END:VCALENDAR
