BEGIN:VCALENDAR
VERSION:2.0
PRODID:SchoolNow
CALSCALE:GREGORIAN
BEGIN:VEVENT
UID:fb118f32-313e-11ed-96d6-0edbd917d1bd
DTSTAMP:20220910T193008Z
SUMMARY:Yoga - Nov. 1st
LOCATION:Activities Center
URL;VALUE=URI:https://www.wildernesslakecdd.org/calendar/3372478/yoga-nov-1
 st
DTSTART:20221101T124500Z
DTEND:20221101T134500Z
END:VEVENT
END:VCALENDAR
