BEGIN:VCALENDAR
VERSION:2.0
PRODID:SchoolNow
CALSCALE:GREGORIAN
BEGIN:VEVENT
UID:e3ef339a-313e-11ed-8c49-0edbd917d1bd
DTSTAMP:20220910T192930Z
SUMMARY:Yoga - Oct. 27th
LOCATION:Activities Center
URL;VALUE=URI:https://www.wildernesslakecdd.org/calendar/3372477/yoga-oct-2
 7th
DTSTART:20221027T124500Z
DTEND:20221027T134500Z
END:VEVENT
END:VCALENDAR
