BEGIN:VCALENDAR
VERSION:2.0
PRODID:SchoolNow
CALSCALE:GREGORIAN
BEGIN:VEVENT
UID:d12f0d8e-313e-11ed-89c5-0edbd917d1bd
DTSTAMP:20220910T192858Z
SUMMARY:Yoga - Oct. 25th
LOCATION:Activities Center
URL;VALUE=URI:https://www.wildernesslakecdd.org/calendar/3372476/yoga-oct-2
 5th
DTSTART:20221025T124500Z
DTEND:20221025T134500Z
END:VEVENT
END:VCALENDAR
