BEGIN:VCALENDAR
VERSION:2.0
PRODID:SchoolNow
CALSCALE:GREGORIAN
BEGIN:VEVENT
UID:be1bcbe2-313e-11ed-b3a8-0edbd917d1bd
DTSTAMP:20220910T192826Z
SUMMARY:Yoga - Oct. 20th
LOCATION:Activities Center
URL;VALUE=URI:https://www.wildernesslakecdd.org/calendar/3372475/yoga-oct-2
 0th
DTSTART:20221020T124500Z
DTEND:20221020T134500Z
END:VEVENT
END:VCALENDAR
