BEGIN:VCALENDAR
VERSION:2.0
PRODID:SchoolNow
CALSCALE:GREGORIAN
BEGIN:VEVENT
UID:b1cdeac8-313e-11ed-b6a4-0edbd917d1bd
DTSTAMP:20220910T192805Z
SUMMARY:Yoga - Oct. 18th
LOCATION:Activities Center
URL;VALUE=URI:https://www.wildernesslakecdd.org/calendar/3372474/yoga-oct-1
 8th
DTSTART:20221018T124500Z
DTEND:20221018T134500Z
END:VEVENT
END:VCALENDAR
