BEGIN:VCALENDAR
VERSION:2.0
PRODID:SchoolNow
CALSCALE:GREGORIAN
BEGIN:VEVENT
UID:a4219bf4-313e-11ed-b9d6-0edbd917d1bd
DTSTAMP:20220910T192742Z
SUMMARY:Yoga - Oct. 13th
LOCATION:Activities Center
URL;VALUE=URI:https://www.wildernesslakecdd.org/calendar/3372435/yoga-oct-1
 3th
DTSTART:20221013T124500Z
DTEND:20221013T134500Z
END:VEVENT
END:VCALENDAR
