BEGIN:VCALENDAR
VERSION:2.0
PRODID:SchoolNow
CALSCALE:GREGORIAN
BEGIN:VEVENT
UID:924e75be-313e-11ed-a499-0edbd917d1bd
DTSTAMP:20220910T192713Z
SUMMARY:Yoga - Oct. 11th
LOCATION:Activities Center
URL;VALUE=URI:https://www.wildernesslakecdd.org/calendar/3372434/yoga-oct-1
 1th
DTSTART:20221011T124500Z
DTEND:20221011T134500Z
END:VEVENT
END:VCALENDAR
