BEGIN:VCALENDAR
VERSION:2.0
PRODID:SchoolNow
CALSCALE:GREGORIAN
BEGIN:VEVENT
UID:820a1e56-313e-11ed-ac79-0edbd917d1bd
DTSTAMP:20220910T192645Z
SUMMARY:Yoga - Oct. 6th
LOCATION:Activities Center
URL;VALUE=URI:https://www.wildernesslakecdd.org/calendar/3372433/yoga-oct-6
 th
DTSTART:20221006T124500Z
DTEND:20221006T134500Z
END:VEVENT
END:VCALENDAR
