BEGIN:VCALENDAR
VERSION:2.0
PRODID:SchoolNow
CALSCALE:GREGORIAN
BEGIN:VEVENT
UID:1818ec34-313e-11ed-b6bd-0edbd917d1bd
DTSTAMP:20220910T192608Z
SUMMARY:Yoga - Oct. 4th
LOCATION:Activities Center
URL;VALUE=URI:https://www.wildernesslakecdd.org/calendar/3372432/yoga-oct-4
 th
DTSTART:20221004T134500Z
DTEND:20221004T144500Z
END:VEVENT
END:VCALENDAR
