BEGIN:VCALENDAR
VERSION:2.0
PRODID:SchoolNow
CALSCALE:GREGORIAN
BEGIN:VEVENT
UID:fa8eeba0-313d-11ed-aca5-0edbd917d1bd
DTSTAMP:20220910T192258Z
SUMMARY:Yoga - Sept. 29th
LOCATION:Activities Center
URL;VALUE=URI:https://www.wildernesslakecdd.org/calendar/3372431/yoga-sept-
 29th
DTSTART:20220929T124500Z
DTEND:20220929T134500Z
END:VEVENT
END:VCALENDAR
