BEGIN:VCALENDAR
VERSION:2.0
PRODID:SchoolNow
CALSCALE:GREGORIAN
BEGIN:VEVENT
UID:ef031f90-313d-11ed-997b-0edbd917d1bd
DTSTAMP:20220910T192450Z
SUMMARY:Yoga - Sept. 27th
LOCATION:Activities Center
URL;VALUE=URI:https://www.wildernesslakecdd.org/calendar/3372430/yoga-sept-
 27th
DTSTART:20220927T134500Z
DTEND:20220927T144500Z
END:VEVENT
END:VCALENDAR
