BEGIN:VCALENDAR
VERSION:2.0
PRODID:SchoolNow
CALSCALE:GREGORIAN
BEGIN:VEVENT
UID:b984e83a-313d-11ed-99fa-0edbd917d1bd
DTSTAMP:20220910T192202Z
SUMMARY:Yoga - Sept. 22nd
LOCATION:Activities Center
URL;VALUE=URI:https://www.wildernesslakecdd.org/calendar/3372429/yoga-sept-
 22nd
DTSTART:20220922T124500Z
DTEND:20220922T134500Z
END:VEVENT
END:VCALENDAR
